BEGIN:VCALENDAR
VERSION:2.0
PRODID:-//SVP Kanton Schwyz //NONSGML Events //EN
CALSCALE:GREGORIAN
X-WR-CALNAME:SVP Kanton Schwyz
BEGIN:VEVENT
CREATED:20220808T070042Z
UID:12590
DTEND:20220817T200000
DTSTART:20220817T193000
DTSTAMP:20231024T154048Z
LOCATION:Viktor Meili AG\, Brestenburgstrasse 6\, 8862 Schübelbach
DESCRIPTION:
SUMMARY:Xaver bi de Lüt
ORGANIZER:
URL;VALUE=URI:https://www.svp-sz.ch/aktuell/termine/xaver-bi-de-luet/
TRANSP:OPAQUE
END:VEVENT
END:VCALENDAR
