BEGIN:VCALENDAR
VERSION:2.0
PRODID:-//SVP Kanton Schwyz //NONSGML Events //EN
CALSCALE:GREGORIAN
X-WR-CALNAME:SVP Kanton Schwyz
BEGIN:VEVENT
CREATED:20220712T050906Z
UID:12446
DTEND:20220821T120000
DTSTART:20220821T113000
DTSTAMP:20231024T154030Z
LOCATION:Bei Familie Büeler im Husmattli in Ried
DESCRIPTION:
SUMMARY:Chnebel-Meisterschaft 2022
ORGANIZER:SVP Muotathal
URL;VALUE=URI:https://www.svp-sz.ch/aktuell/termine/chnebel-meisterschaft-2022/
TRANSP:OPAQUE
END:VEVENT
END:VCALENDAR
