BEGIN:VCALENDAR
VERSION:2.0
PRODID:-//SVP Kanton Schwyz //NONSGML Events //EN
CALSCALE:GREGORIAN
X-WR-CALNAME:SVP Kanton Schwyz
BEGIN:VEVENT
CREATED:20220601T061125Z
UID:12402
DTEND:20220613T210000
DTSTART:20220613T200000
DTSTAMP:20231024T153759Z
LOCATION:Hotel Bären\, Marktstrasse 9\, 8853 Lachen
DESCRIPTION:Programm 20.00 Uhr      Eröffnung durch den Kantonalpräsidenten
SUMMARY:Nominationsversammlung Regierungsrat
ORGANIZER:
URL;VALUE=URI:https://www.svp-sz.ch/aktuell/termine/nominationsversammlung-regierungsrat/
TRANSP:OPAQUE
END:VEVENT
END:VCALENDAR
