BEGIN:VCALENDAR
VERSION:2.0
PRODID:-//SVP Kanton Schwyz //NONSGML Events //EN
CALSCALE:GREGORIAN
X-WR-CALNAME:SVP Kanton Schwyz
BEGIN:VEVENT
CREATED:20211117T122619Z
UID:12140
DTEND:20221130T200000
DTSTART:20221130T193000
DTSTAMP:20231024T153456Z
LOCATION:
DESCRIPTION:
SUMMARY:Sitzung Geschäftsleitung
ORGANIZER:
URL;VALUE=URI:https://www.svp-sz.ch/aktuell/termine/sitzungen-geschaeftsleitung-2/
TRANSP:OPAQUE
END:VEVENT
END:VCALENDAR
