BEGIN:VCALENDAR
VERSION:2.0
PRODID:-//SVP Kanton Schwyz //NONSGML Events //EN
CALSCALE:GREGORIAN
X-WR-CALNAME:SVP Kanton Schwyz
BEGIN:VEVENT
CREATED:20211117T122627Z
UID:12138
DTEND:20221017T200000
DTSTART:20221017T193000
DTSTAMP:20231024T153811Z
LOCATION:
DESCRIPTION:
SUMMARY:Sitzung Geschäftsleitung
ORGANIZER:
URL;VALUE=URI:https://www.svp-sz.ch/aktuell/termine/sitzungen-geschaeftsleitung-3/
TRANSP:OPAQUE
END:VEVENT
END:VCALENDAR
