BEGIN:VCALENDAR
VERSION:2.0
PRODID:-//SVP Kanton Schwyz //NONSGML Events //EN
CALSCALE:GREGORIAN
X-WR-CALNAME:SVP Kanton Schwyz
BEGIN:VEVENT
CREATED:20211117T122702Z
UID:12134
DTEND:20220914T200000
DTSTART:20220914T193000
DTSTAMP:20231024T153534Z
LOCATION:
DESCRIPTION:
SUMMARY:Sitzung Geschäftsleitung
ORGANIZER:
URL;VALUE=URI:https://www.svp-sz.ch/aktuell/termine/sitzungen-geschaeftsleitung-4/
TRANSP:OPAQUE
END:VEVENT
END:VCALENDAR
