BEGIN:VCALENDAR
VERSION:2.0
PRODID:-//SVP Kanton Schwyz //NONSGML Events //EN
CALSCALE:GREGORIAN
X-WR-CALNAME:SVP Kanton Schwyz
BEGIN:VEVENT
CREATED:20211117T122718Z
UID:12132
DTEND:20220623T200000
DTSTART:20220623T193000
DTSTAMP:20231024T153644Z
LOCATION:
DESCRIPTION:
SUMMARY:Sitzung Geschäftsleitung
ORGANIZER:
URL;VALUE=URI:https://www.svp-sz.ch/aktuell/termine/sitzung-geschaeftsleitung-11/
TRANSP:OPAQUE
END:VEVENT
END:VCALENDAR
