BEGIN:VCALENDAR
VERSION:2.0
PRODID:-//SVP Kanton Schwyz //NONSGML Events //EN
CALSCALE:GREGORIAN
X-WR-CALNAME:SVP Kanton Schwyz
BEGIN:VEVENT
CREATED:20211117T122751Z
UID:12128
DTEND:20220204T200000
DTSTART:20220204T193000
DTSTAMP:20231024T154016Z
LOCATION:
DESCRIPTION:
SUMMARY:Sitzung Geschäftsleitung
ORGANIZER:
URL;VALUE=URI:https://www.svp-sz.ch/aktuell/termine/sitzung-geschaeftsleitung-13/
TRANSP:OPAQUE
END:VEVENT
END:VCALENDAR
