BEGIN:VCALENDAR
VERSION:2.0
PRODID:-//SVP Kanton Schwyz //NONSGML Events //EN
CALSCALE:GREGORIAN
X-WR-CALNAME:SVP Kanton Schwyz
BEGIN:VEVENT
CREATED:20211117T122802Z
UID:12126
DTEND:20220314T200000
DTSTART:20220314T193000
DTSTAMP:20231024T154037Z
LOCATION:
DESCRIPTION:
SUMMARY:Sitzung Geschäftsleitung
ORGANIZER:
URL;VALUE=URI:https://www.svp-sz.ch/aktuell/termine/sitzung-geschaeftsleitung-14/
TRANSP:OPAQUE
END:VEVENT
END:VCALENDAR
