BEGIN:VCALENDAR
VERSION:2.0
PRODID:-//SVP Kanton Schwyz //NONSGML Events //EN
CALSCALE:GREGORIAN
X-WR-CALNAME:SVP Kanton Schwyz
BEGIN:VEVENT
CREATED:20211117T122816Z
UID:12122
DTEND:20220104T200000
DTSTART:20220104T193000
DTSTAMP:20231024T153511Z
LOCATION:
DESCRIPTION:
SUMMARY:Sitzung Geschäftsleitung
ORGANIZER:
URL;VALUE=URI:https://www.svp-sz.ch/aktuell/termine/sitzung-geschaeftsleitung-15/
TRANSP:OPAQUE
END:VEVENT
END:VCALENDAR
