BEGIN:VCALENDAR
VERSION:2.0
PRODID:-//SVP Kanton Schwyz //NONSGML Events //EN
CALSCALE:GREGORIAN
X-WR-CALNAME:SVP Kanton Schwyz
BEGIN:VEVENT
CREATED:20211117T122850Z
UID:12118
DTEND:20221123T000000
DTSTART:20221123T000000
DTSTAMP:20231024T153708Z
LOCATION:
DESCRIPTION:
SUMMARY:Session Schwyzer Kantonsrat
ORGANIZER:
URL;VALUE=URI:https://www.svp-sz.ch/aktuell/termine/session-schwyzer-kantonsrat-12/
TRANSP:OPAQUE
END:VEVENT
END:VCALENDAR
