BEGIN:VCALENDAR
VERSION:2.0
PRODID:-//SVP Kanton Schwyz //NONSGML Events //EN
CALSCALE:GREGORIAN
X-WR-CALNAME:SVP Kanton Schwyz
BEGIN:VEVENT
CREATED:20211117T122910Z
UID:12114
DTEND:20220928T000000
DTSTART:20220928T000000
DTSTAMP:20231024T153808Z
LOCATION:
DESCRIPTION:
SUMMARY:Session Schwyzer Kantonsrat
ORGANIZER:
URL;VALUE=URI:https://www.svp-sz.ch/aktuell/termine/session-schwyzer-kantonsrat-14/
TRANSP:OPAQUE
END:VEVENT
END:VCALENDAR
