BEGIN:VCALENDAR
VERSION:2.0
PRODID:-//SVP Kanton Schwyz //NONSGML Events //EN
CALSCALE:GREGORIAN
X-WR-CALNAME:SVP Kanton Schwyz
BEGIN:VEVENT
CREATED:20211117T123150Z
UID:12084
DTEND:20220322T000000
DTSTART:20220322T000000
DTSTAMP:20231024T153506Z
LOCATION:
DESCRIPTION:
SUMMARY:Fraktionssitzung
ORGANIZER:
URL;VALUE=URI:https://www.svp-sz.ch/aktuell/termine/fraktionssitzung-22/
TRANSP:OPAQUE
END:VEVENT
END:VCALENDAR
