BEGIN:VCALENDAR
VERSION:2.0
PRODID:-//SVP Kanton Schwyz //NONSGML Events //EN
CALSCALE:GREGORIAN
X-WR-CALNAME:SVP Kanton Schwyz
BEGIN:VEVENT
CREATED:20211117T123304Z
UID:12080
DTEND:20221205T200000
DTSTART:20221205T190000
DTSTAMP:20231024T153806Z
LOCATION:Restaurant Distel\, Rothenthurm
DESCRIPTION:Vorbereitung GV (12.12)
SUMMARY:Sitzung Kantonalvorstand
ORGANIZER:
URL;VALUE=URI:https://www.svp-sz.ch/aktuell/termine/vorbereitung-gv-12-12/
TRANSP:OPAQUE
END:VEVENT
END:VCALENDAR
