BEGIN:VCALENDAR
VERSION:2.0
PRODID:-//SVP Kanton Schwyz //NONSGML Events //EN
CALSCALE:GREGORIAN
X-WR-CALNAME:SVP Kanton Schwyz
BEGIN:VEVENT
CREATED:20211117T123750Z
UID:12076
DTEND:20220823T200000
DTSTART:20220823T190000
DTSTAMP:20231024T153501Z
LOCATION:Restaurant Distel\, Rothenthurm
DESCRIPTION:Vorbereitung PV (30.8)
SUMMARY:Sitzung Kantonalvorstand
ORGANIZER:
URL;VALUE=URI:https://www.svp-sz.ch/aktuell/termine/sitzung-kantonalvorstand-6/
TRANSP:OPAQUE
END:VEVENT
END:VCALENDAR
