BEGIN:VCALENDAR
VERSION:2.0
PRODID:-//SVP Kanton Schwyz //NONSGML Events //EN
CALSCALE:GREGORIAN
X-WR-CALNAME:SVP Kanton Schwyz
BEGIN:VEVENT
CREATED:20211117T123846Z
UID:12072
DTEND:20220222T200000
DTSTART:20220222T190000
DTSTAMP:20231024T153441Z
LOCATION:Restaurant Distel\, Rothenthurm
DESCRIPTION:Vorbereitung GV (16.3)
SUMMARY:Sitzung Kantonalvorstand
ORGANIZER:
URL;VALUE=URI:https://www.svp-sz.ch/aktuell/termine/sitzung-kantonalvorstand-8/
TRANSP:OPAQUE
END:VEVENT
END:VCALENDAR
