BEGIN:VCALENDAR
VERSION:2.0
PRODID:-//SVP Kanton Schwyz //NONSGML Events //EN
CALSCALE:GREGORIAN
X-WR-CALNAME:SVP Kanton Schwyz
BEGIN:VEVENT
CREATED:20211117T124421Z
UID:12070
DTEND:20220210T200000
DTSTART:20220210T190000
DTSTAMP:20231024T153634Z
LOCATION:Restaurant Distel\, Rothenthurm
DESCRIPTION:Vorbereitung PV (17.1)
SUMMARY:Sitzung Kantonalvorstand
ORGANIZER:
URL;VALUE=URI:https://www.svp-sz.ch/aktuell/termine/sitzung-kantonalvorstand-9/
TRANSP:OPAQUE
END:VEVENT
END:VCALENDAR
