BEGIN:VCALENDAR
VERSION:2.0
PRODID:-//SVP Kanton Schwyz //NONSGML Events //EN
CALSCALE:GREGORIAN
X-WR-CALNAME:SVP Kanton Schwyz
BEGIN:VEVENT
CREATED:20211117T124434Z
UID:12068
DTEND:20221007T200000
DTSTART:20221007T193000
DTSTAMP:20231024T153922Z
LOCATION:
DESCRIPTION:
SUMMARY:Generalversammlung JSVP des Kantons Schwyz
ORGANIZER:
URL;VALUE=URI:https://www.svp-sz.ch/aktuell/termine/generalversammlung-jsvp-des-kantons-schwyz-2/
TRANSP:OPAQUE
END:VEVENT
END:VCALENDAR
