BEGIN:VCALENDAR
VERSION:2.0
PRODID:-//SVP Kanton Schwyz //NONSGML Events //EN
CALSCALE:GREGORIAN
X-WR-CALNAME:SVP Kanton Schwyz
BEGIN:VEVENT
CREATED:20211117T124446Z
UID:12066
DTEND:20220629T000000
DTSTART:20220629T000000
DTSTAMP:20231024T153843Z
LOCATION:
DESCRIPTION:Nachmittag
SUMMARY:Fraktionsausflug Kantonsrat Schwyz
ORGANIZER:
URL;VALUE=URI:https://www.svp-sz.ch/aktuell/termine/fraktionsausflug-kantonsrat-schwyz-2/
TRANSP:OPAQUE
END:VEVENT
END:VCALENDAR
