BEGIN:VCALENDAR
VERSION:2.0
PRODID:-//SVP Kanton Schwyz //NONSGML Events //EN
CALSCALE:GREGORIAN
X-WR-CALNAME:SVP Kanton Schwyz
BEGIN:VEVENT
CREATED:20211117T124456Z
UID:12064
DTEND:20220219T000000
DTSTART:20220219T000000
DTSTAMP:20231024T153825Z
LOCATION:
DESCRIPTION:Ganzer Tag
SUMMARY:Jass-Cup SVP Schweiz
ORGANIZER:
URL;VALUE=URI:https://www.svp-sz.ch/aktuell/termine/jass-cup-svp-schweiz-2/
TRANSP:OPAQUE
END:VEVENT
END:VCALENDAR
