BEGIN:VCALENDAR
VERSION:2.0
PRODID:-//SVP Kanton Schwyz //NONSGML Events //EN
CALSCALE:GREGORIAN
X-WR-CALNAME:SVP Kanton Schwyz
BEGIN:VEVENT
CREATED:20211117T124524Z
UID:12062
DTEND:20221212T210000
DTSTART:20221212T200000
DTSTAMP:20231024T153609Z
LOCATION:
DESCRIPTION:
SUMMARY:ao. Generalversammlung / Budget 2023
ORGANIZER:
URL;VALUE=URI:https://www.svp-sz.ch/aktuell/termine/ao-generalversammlung-budget-2023/
TRANSP:OPAQUE
END:VEVENT
END:VCALENDAR
