BEGIN:VCALENDAR
VERSION:2.0
PRODID:-//SVP Kanton Schwyz //NONSGML Events //EN
CALSCALE:GREGORIAN
X-WR-CALNAME:SVP Kanton Schwyz
BEGIN:VEVENT
CREATED:20211117T124549Z
UID:12060
DTEND:20221027T210000
DTSTART:20221027T200000
DTSTAMP:20231024T153850Z
LOCATION:Hotel Bären Marktstrasse 9\, 8853 Lachen
DESCRIPTION:zur Einladung (PDF) 20.00 Uhr Eröffnung und Begrüssung Kantonsrat R
SUMMARY:Parteiversammlung (Parolen 27.11.2022)
ORGANIZER:
URL;VALUE=URI:https://www.svp-sz.ch/aktuell/termine/parteiversammlung-parolen-27-11-2022/
TRANSP:OPAQUE
END:VEVENT
END:VCALENDAR
