BEGIN:VCALENDAR
VERSION:2.0
PRODID:-//SVP Kanton Schwyz //NONSGML Events //EN
CALSCALE:GREGORIAN
X-WR-CALNAME:SVP Kanton Schwyz
BEGIN:VEVENT
CREATED:20211117T125012Z
UID:12058
DTEND:20220830T210000
DTSTART:20220830T200000
DTSTAMP:20231024T153438Z
LOCATION:
DESCRIPTION:
SUMMARY:Parteiversammlung (Parolen 25.09.2022)
ORGANIZER:
URL;VALUE=URI:https://www.svp-sz.ch/aktuell/termine/parteiversammlung-parolen-25-09-2022/
TRANSP:OPAQUE
END:VEVENT
END:VCALENDAR
