BEGIN:VCALENDAR
VERSION:2.0
PRODID:-//SVP Kanton Schwyz //NONSGML Events //EN
CALSCALE:GREGORIAN
X-WR-CALNAME:SVP Kanton Schwyz
BEGIN:VEVENT
CREATED:20211117T125043Z
UID:12056
DTEND:20220411T210000
DTSTART:20220411T200000
DTSTAMP:20231024T153746Z
LOCATION:Restaurant Hirschen\, Dorfplatz 2\, 8855 Wangen
DESCRIPTION:zur Einladung (PDF) 20.00 Uhr Eröffnung und Begrüssung Kantonsrat R
SUMMARY:Parteiversammlung (Parolen 15.05.2022)
ORGANIZER:
URL;VALUE=URI:https://www.svp-sz.ch/aktuell/termine/parteiversammlung-parolen-15-05-2022/
TRANSP:OPAQUE
END:VEVENT
END:VCALENDAR
