BEGIN:VCALENDAR
VERSION:2.0
PRODID:-//SVP Kanton Schwyz //NONSGML Events //EN
CALSCALE:GREGORIAN
X-WR-CALNAME:SVP Kanton Schwyz
BEGIN:VEVENT
CREATED:20211117T125233Z
UID:12052
DTEND:20220117T210000
DTSTART:20220117T200000
DTSTAMP:20231024T153710Z
LOCATION:
DESCRIPTION:
SUMMARY:Parteiversammlung (Parolen 13.02.2022)
ORGANIZER:
URL;VALUE=URI:https://www.svp-sz.ch/aktuell/termine/parteiversammlung-parolen-13-02-2022/
TRANSP:OPAQUE
END:VEVENT
END:VCALENDAR
