BEGIN:VCALENDAR
VERSION:2.0
PRODID:-//SVP Kanton Schwyz //NONSGML Events //EN
CALSCALE:GREGORIAN
X-WR-CALNAME:SVP Kanton Schwyz
BEGIN:VEVENT
CREATED:20211117T130627Z
UID:12048
DTEND:20220820T000000
DTSTART:20220820T000000
DTSTAMP:20231024T153804Z
LOCATION:Zug
DESCRIPTION:
SUMMARY:3. Delegiertenversammlung
ORGANIZER:
URL;VALUE=URI:https://www.svp-sz.ch/aktuell/termine/3-delegiertenversammlung/
TRANSP:OPAQUE
END:VEVENT
END:VCALENDAR
