BEGIN:VCALENDAR
VERSION:2.0
PRODID:-//SVP Kanton Schwyz //NONSGML Events //EN
CALSCALE:GREGORIAN
X-WR-CALNAME:SVP Kanton Schwyz
BEGIN:VEVENT
CREATED:20211117T130650Z
UID:12046
DTEND:20220409T000000
DTSTART:20220409T000000
DTSTAMP:20231024T153524Z
LOCATION:Graubünden
DESCRIPTION:
SUMMARY:2. Delegiertenversammlung
ORGANIZER:
URL;VALUE=URI:https://www.svp-sz.ch/aktuell/termine/2-delegiertenversammlung/
TRANSP:OPAQUE
END:VEVENT
END:VCALENDAR
