BEGIN:VCALENDAR
VERSION:2.0
PRODID:-//SVP Kanton Schwyz //NONSGML Events //EN
CALSCALE:GREGORIAN
X-WR-CALNAME:SVP Kanton Schwyz
BEGIN:VEVENT
CREATED:20211117T130703Z
UID:12044
DTEND:20220115T000000
DTSTART:20220115T000000
DTSTAMP:20231024T153925Z
LOCATION:Bern
DESCRIPTION:
SUMMARY:1. Delegiertenversammlung
ORGANIZER:
URL;VALUE=URI:https://www.svp-sz.ch/aktuell/termine/1-delegiertenversammlung/
TRANSP:OPAQUE
END:VEVENT
END:VCALENDAR
