BEGIN:VCALENDAR
VERSION:2.0
PRODID:-//SVP Kanton Schwyz //NONSGML Events //EN
CALSCALE:GREGORIAN
X-WR-CALNAME:SVP Kanton Schwyz
BEGIN:VEVENT
CREATED:20211117T130723Z
UID:12042
DTEND:20221127T000000
DTSTART:20221127T000000
DTSTAMP:20231024T154046Z
LOCATION:
DESCRIPTION:
SUMMARY:Eidg. und kantonale Abstimmung
ORGANIZER:
URL;VALUE=URI:https://www.svp-sz.ch/aktuell/termine/eidg-und-kantonale-abstimmung-4/
TRANSP:OPAQUE
END:VEVENT
END:VCALENDAR
