BEGIN:VCALENDAR
VERSION:2.0
PRODID:-//SVP Kanton Schwyz //NONSGML Events //EN
CALSCALE:GREGORIAN
X-WR-CALNAME:SVP Kanton Schwyz
BEGIN:VEVENT
CREATED:20211117T125310Z
UID:12038
DTEND:20220619T000000
DTSTART:20220619T000000
DTSTAMP:20231024T153646Z
LOCATION:
DESCRIPTION:
SUMMARY:Nachwahlen Bezirks- und Gemeindebehörden
ORGANIZER:
URL;VALUE=URI:https://www.svp-sz.ch/aktuell/termine/nachwahlen-bezirks-und-gemeindebehoerden/
TRANSP:OPAQUE
END:VEVENT
END:VCALENDAR
