BEGIN:VCALENDAR
VERSION:2.0
PRODID:-//SVP Kanton Schwyz //NONSGML Events //EN
CALSCALE:GREGORIAN
X-WR-CALNAME:SVP Kanton Schwyz
BEGIN:VEVENT
CREATED:20211117T125244Z
UID:12034
DTEND:20220515T000000
DTSTART:20220515T000000
DTSTAMP:20231024T153718Z
LOCATION:
DESCRIPTION:
SUMMARY:Bezirks- und Gemeinderatswahlen
ORGANIZER:
URL;VALUE=URI:https://www.svp-sz.ch/aktuell/termine/bezirks-und-gemeinderatswahlen/
TRANSP:OPAQUE
END:VEVENT
END:VCALENDAR
