BEGIN:VCALENDAR
VERSION:2.0
PRODID:-//SVP Kanton Schwyz //NONSGML Events //EN
CALSCALE:GREGORIAN
X-WR-CALNAME:SVP Kanton Schwyz
BEGIN:VEVENT
CREATED:20211117T125213Z
UID:12032
DTEND:20220213T000000
DTSTART:20220213T000000
DTSTAMP:20231024T153637Z
LOCATION:
DESCRIPTION:
SUMMARY:Eidg. und kantonale Abstimmung
ORGANIZER:
URL;VALUE=URI:https://www.svp-sz.ch/aktuell/termine/eidg-und-kantonale-abstimmung-2/
TRANSP:OPAQUE
END:VEVENT
END:VCALENDAR
