BEGIN:VCALENDAR
VERSION:2.0
PRODID:-//SVP Kanton Schwyz //NONSGML Events //EN
CALSCALE:GREGORIAN
X-WR-CALNAME:SVP Kanton Schwyz
BEGIN:VEVENT
CREATED:20210802T063702Z
UID:11861
DTEND:20210831T210000
DTSTART:20210831T200000
DTSTAMP:20231024T153955Z
LOCATION:Hotel Restaurant Roggenstock Lodge Oberiberg
DESCRIPTION:Einladung PDF
SUMMARY:Parteiversammlung
ORGANIZER:
URL;VALUE=URI:https://www.svp-sz.ch/aktuell/termine/parteiversammlung-2021-08-31/
TRANSP:OPAQUE
END:VEVENT
END:VCALENDAR
