BEGIN:VCALENDAR
VERSION:2.0
PRODID:-//SVP Kanton Schwyz //NONSGML Events //EN
CALSCALE:GREGORIAN
X-WR-CALNAME:SVP Kanton Schwyz
BEGIN:VEVENT
CREATED:20210601T091030Z
UID:11698
DTEND:20210701T210000
DTSTART:20210701T200000
DTSTAMP:20231024T154022Z
LOCATION:Mythen Forum
DESCRIPTION:Einladung PDF
SUMMARY:Generalversammlung
ORGANIZER:
URL;VALUE=URI:https://www.svp-sz.ch/aktuell/termine/generalversammlung-2021/
TRANSP:OPAQUE
END:VEVENT
END:VCALENDAR
