BEGIN:VCALENDAR
VERSION:2.0
PRODID:-//SVP Kanton Schwyz //NONSGML Events //EN
CALSCALE:GREGORIAN
X-WR-CALNAME:SVP Kanton Schwyz
BEGIN:VEVENT
CREATED:20210305T100843Z
UID:11376
DTEND:20210408T210000
DTSTART:20210408T200000
DTSTAMP:20231024T153606Z
LOCATION:Viktor Meili AG\, Brestenburgstrasse 6\, 8862 Schübelbach
DESCRIPTION:Generalversammlung und anschliessende Parteiversammlung der SVP March 
SUMMARY:SVP March: Generalversammlung
ORGANIZER:
URL;VALUE=URI:https://www.svp-sz.ch/aktuell/termine/svp-march-generalversammlung/
TRANSP:OPAQUE
END:VEVENT
END:VCALENDAR
