BEGIN:VCALENDAR
VERSION:2.0
PRODID:-//SVP Kanton Schwyz //NONSGML Events //EN
CALSCALE:GREGORIAN
X-WR-CALNAME:SVP Kanton Schwyz
BEGIN:VEVENT
CREATED:20201207T071427Z
UID:11038
DTEND:20210707T200000
DTSTART:20210707T190000
DTSTAMP:20231024T153756Z
LOCATION:Restaurant Distel\, Rothenthurm
DESCRIPTION:
SUMMARY:Sitzung Geschäftsleitung
ORGANIZER:
URL;VALUE=URI:https://www.svp-sz.ch/aktuell/termine/sitzung-geschaeftsleitung-6/
TRANSP:OPAQUE
END:VEVENT
END:VCALENDAR
