BEGIN:VCALENDAR
VERSION:2.0
PRODID:-//SVP Kanton Schwyz //NONSGML Events //EN
CALSCALE:GREGORIAN
X-WR-CALNAME:SVP Kanton Schwyz
BEGIN:VEVENT
CREATED:20201207T071353Z
UID:11036
DTEND:20210527T200000
DTSTART:20210527T190000
DTSTAMP:20231024T153726Z
LOCATION:Restaurant Distel\, Rothenthurm
DESCRIPTION:
SUMMARY:Sitzung Geschäftsleitung
ORGANIZER:
URL;VALUE=URI:https://www.svp-sz.ch/aktuell/termine/sitzung-geschaeftsleitung-5/
TRANSP:OPAQUE
END:VEVENT
END:VCALENDAR
