BEGIN:VCALENDAR
VERSION:2.0
PRODID:-//SVP Kanton Schwyz //NONSGML Events //EN
CALSCALE:GREGORIAN
X-WR-CALNAME:SVP Kanton Schwyz
BEGIN:VEVENT
CREATED:20201207T065756Z
UID:11019
DTEND:20210624T000000
DTSTART:20210623T000000
DTSTAMP:20231024T153623Z
LOCATION:
DESCRIPTION:
SUMMARY:Session Schwyzer Kantonsrat
ORGANIZER:
URL;VALUE=URI:https://www.svp-sz.ch/aktuell/termine/session-schwyzer-kantonsrat-7/
TRANSP:OPAQUE
END:VEVENT
END:VCALENDAR
