BEGIN:VCALENDAR
VERSION:2.0
PRODID:-//SVP Kanton Schwyz //NONSGML Events //EN
CALSCALE:GREGORIAN
X-WR-CALNAME:SVP Kanton Schwyz
BEGIN:VEVENT
CREATED:20201207T065544Z
UID:11017
DTEND:20210526T000000
DTSTART:20210526T000000
DTSTAMP:20231024T153943Z
LOCATION:
DESCRIPTION:
SUMMARY:Session Schwyzer Kantonsrat
ORGANIZER:
URL;VALUE=URI:https://www.svp-sz.ch/aktuell/termine/session-schwyzer-kantonsrat-6/
TRANSP:OPAQUE
END:VEVENT
END:VCALENDAR
