BEGIN:VCALENDAR
VERSION:2.0
PRODID:-//SVP Kanton Schwyz //NONSGML Events //EN
CALSCALE:GREGORIAN
X-WR-CALNAME:SVP Kanton Schwyz
BEGIN:VEVENT
CREATED:20201207T065308Z
UID:11009
DTEND:20211207T000000
DTSTART:20211207T000000
DTSTAMP:20231024T153523Z
LOCATION:
DESCRIPTION:
SUMMARY:Fraktionssitzung
ORGANIZER:
URL;VALUE=URI:https://www.svp-sz.ch/aktuell/termine/fraktionssitzung-13/
TRANSP:OPAQUE
END:VEVENT
END:VCALENDAR
