BEGIN:VCALENDAR
VERSION:2.0
PRODID:-//SVP Kanton Schwyz //NONSGML Events //EN
CALSCALE:GREGORIAN
X-WR-CALNAME:SVP Kanton Schwyz
BEGIN:VEVENT
CREATED:20201207T065222Z
UID:11005
DTEND:20211109T000000
DTSTART:20211109T000000
DTSTAMP:20231024T154014Z
LOCATION:
DESCRIPTION:
SUMMARY:Fraktionssitzung
ORGANIZER:
URL;VALUE=URI:https://www.svp-sz.ch/aktuell/termine/fraktionssitzung-11/
TRANSP:OPAQUE
END:VEVENT
END:VCALENDAR
