BEGIN:VCALENDAR
VERSION:2.0
PRODID:-//SVP Kanton Schwyz //NONSGML Events //EN
CALSCALE:GREGORIAN
X-WR-CALNAME:SVP Kanton Schwyz
BEGIN:VEVENT
CREATED:20201207T064740Z
UID:10989
DTEND:20211201T200000
DTSTART:20211201T190000
DTSTAMP:20231024T154026Z
LOCATION:Restaurant Distel\, Rothenthurm
DESCRIPTION:Vorbereitung GV (09.12)
SUMMARY:Sitzung Kantonalvorstand
ORGANIZER:
URL;VALUE=URI:https://www.svp-sz.ch/aktuell/termine/sitzung-kantonalvorstand-4/
TRANSP:OPAQUE
END:VEVENT
END:VCALENDAR
