BEGIN:VCALENDAR
VERSION:2.0
PRODID:-//SVP Kanton Schwyz //NONSGML Events //EN
CALSCALE:GREGORIAN
X-WR-CALNAME:SVP Kanton Schwyz
BEGIN:VEVENT
CREATED:20201207T064653Z
UID:10987
DTEND:20211025T200000
DTSTART:20211025T190000
DTSTAMP:20231024T153510Z
LOCATION:Restaurant Distel\, Rothenthurm
DESCRIPTION:Vorbereitung PV (02.11)
SUMMARY:Sitzung Kantonalvorstand
ORGANIZER:
URL;VALUE=URI:https://www.svp-sz.ch/aktuell/termine/sitzung-kantonalvorstand-3/
TRANSP:OPAQUE
END:VEVENT
END:VCALENDAR
