BEGIN:VCALENDAR
VERSION:2.0
PRODID:-//SVP Kanton Schwyz //NONSGML Events //EN
CALSCALE:GREGORIAN
X-WR-CALNAME:SVP Kanton Schwyz
BEGIN:VEVENT
CREATED:20201207T064434Z
UID:10981
DTEND:20210422T200000
DTSTART:20210422T190000
DTSTAMP:20231024T154006Z
LOCATION:Restaurant Distel\, Rothenthurm
DESCRIPTION:Vorbereitung PV (29.4)
SUMMARY:Sitzung Kantonalvorstand
ORGANIZER:
URL;VALUE=URI:https://www.svp-sz.ch/aktuell/termine/sitzung-kantonalvorstand/
TRANSP:OPAQUE
END:VEVENT
END:VCALENDAR
