BEGIN:VCALENDAR
VERSION:2.0
PRODID:-//SVP Kanton Schwyz //NONSGML Events //EN
CALSCALE:GREGORIAN
X-WR-CALNAME:SVP Kanton Schwyz
BEGIN:VEVENT
CREATED:20201207T064318Z
UID:10979
DTEND:20210315T200000
DTSTART:20210315T190000
DTSTAMP:20231024T153823Z
LOCATION:Restaurant Distel\, Rothenthurm
DESCRIPTION:Vorbereitung GV (25.3)
SUMMARY:Sitzung Kantonalvorstand
ORGANIZER:
URL;VALUE=URI:https://www.svp-sz.ch/aktuell/termine/sitzungen-kantonalvorstand-2/
TRANSP:OPAQUE
END:VEVENT
END:VCALENDAR
