BEGIN:VCALENDAR
VERSION:2.0
PRODID:-//SVP Kanton Schwyz //NONSGML Events //EN
CALSCALE:GREGORIAN
X-WR-CALNAME:SVP Kanton Schwyz
BEGIN:VEVENT
CREATED:20201207T064205Z
UID:10977
DTEND:20210204T200000
DTSTART:20210204T190000
DTSTAMP:20231024T153603Z
LOCATION:Restaurant Distel\, Rothenthurm
DESCRIPTION:Vorbereitung PV (07.3)
SUMMARY:Sitzung Kantonalvorstand (ABGESAGT)
ORGANIZER:
URL;VALUE=URI:https://www.svp-sz.ch/aktuell/termine/sitzungen-kantonalvorstand/
TRANSP:OPAQUE
END:VEVENT
END:VCALENDAR
