BEGIN:VCALENDAR
VERSION:2.0
PRODID:-//SVP Kanton Schwyz //NONSGML Events //EN
CALSCALE:GREGORIAN
X-WR-CALNAME:SVP Kanton Schwyz
BEGIN:VEVENT
CREATED:20201207T064020Z
UID:10975
DTEND:20211001T200000
DTSTART:20211001T193000
DTSTAMP:20231024T153459Z
LOCATION:
DESCRIPTION:
SUMMARY:Generalversammlung JSVP des Kantons Schwyz
ORGANIZER:
URL;VALUE=URI:https://www.svp-sz.ch/aktuell/termine/generalversammlung-jsvp-des-kantons-schwyz/
TRANSP:OPAQUE
END:VEVENT
END:VCALENDAR
