BEGIN:VCALENDAR
VERSION:2.0
PRODID:-//SVP Kanton Schwyz //NONSGML Events //EN
CALSCALE:GREGORIAN
X-WR-CALNAME:SVP Kanton Schwyz
BEGIN:VEVENT
CREATED:20201207T063922Z
UID:10973
DTEND:20210820T000000
DTSTART:20210820T000000
DTSTAMP:20231024T154007Z
LOCATION:
DESCRIPTION:
SUMMARY:GV SVP international
ORGANIZER:
URL;VALUE=URI:https://www.svp-sz.ch/aktuell/termine/gv-svp-international/
TRANSP:OPAQUE
END:VEVENT
END:VCALENDAR
