BEGIN:VCALENDAR
VERSION:2.0
PRODID:-//SVP Kanton Schwyz //NONSGML Events //EN
CALSCALE:GREGORIAN
X-WR-CALNAME:SVP Kanton Schwyz
BEGIN:VEVENT
CREATED:20201207T063838Z
UID:10971
DTEND:20210623T000000
DTSTART:20210623T000000
DTSTAMP:20231024T153828Z
LOCATION:
DESCRIPTION:
SUMMARY:Fraktionsausflug Kantonsrat Schwyz
ORGANIZER:
URL;VALUE=URI:https://www.svp-sz.ch/aktuell/termine/fraktionsausflug-kantonsrat-schwyz/
TRANSP:OPAQUE
END:VEVENT
END:VCALENDAR
