BEGIN:VCALENDAR
VERSION:2.0
PRODID:-//SVP Kanton Schwyz //NONSGML Events //EN
CALSCALE:GREGORIAN
X-WR-CALNAME:SVP Kanton Schwyz
BEGIN:VEVENT
CREATED:20201207T063752Z
UID:10969
DTEND:20210911T000000
DTSTART:20210910T000000
DTSTAMP:20231024T153946Z
LOCATION:
DESCRIPTION:
SUMMARY:Konferenz kantonalen Partei- / Fraktionspräsidenten
ORGANIZER:
URL;VALUE=URI:https://www.svp-sz.ch/aktuell/termine/konferenz-kantonalen-partei-fraktionspraesidenten/
TRANSP:OPAQUE
END:VEVENT
END:VCALENDAR
